Workbook

Sheet DPG
A1: DPG - 2011 MPB Update
A2: Area (ha) of MPB Attack Severity by Age Class and Density within Pine Stands (Pine Species >= 30% density - The Pine Mask)
A3: TSA Area | B3: 3396704
A4: Pine Mask Unharvested Area | B4: =SUM(data!D2:D200) -> 536009.71
A6: MPB Attack as a percentage of Pine affected within the VRI Stand
A8: MPB Attack Severity
C9: Light (<11%) | E9: Moderate (11-30%) | G9: Severe (31-50%) | I9: Very Severe (>50%) | K9: All Severity | M9: No Attack
A10: Age Class | B10: Pine Density | C10: Area (ha) | D10: Percent of all Pine (Pine Mask) | E10: Area (ha) | F10: Percent of all Pine (Pine Mask) | G10: Area (ha) | H10: Percent of all Pine (Pine Mask) | I10: Area (ha) | J10: Percent of all Pine (Pine Mask) | K10: Total Area of Attack (ha) | L10: Percent of all Pine (Pine Mask) | M10: Area (ha) | N10: Percent of all Pine (Pine Mask)
A11: 21-40 years | B11: 30-70% | C11: {=SUM(IF(data!A2:A200="21-40 years",IF(data!B2:B200="30-70%",IF(data!C2:C200="Light (<11%)",data!D2:D200,0),0),0))} -> 7160.3878 | D11: =C11/($K$20+$M$20) -> 0.015290752 | E11: {=SUM(IF(data!A2:A200="21-40 years",IF(data!B2:B200="30-70%",IF(data!C2:C200="Moderate (11-30%)",data!D2:D200,0),0),0))} -> 5534.3094 | F11: =E11/($K$20+$M$20) -> 0.01181832 | G11: {=SUM(IF(data!A2:A200="21-40 years",IF(data!B2:B200="30-70%",IF(data!C2:C200="Severe (31-50%)",data!D2:D200,0),0),0))} -> 2576.6782 | H11: =G11/($K$20+$M$20) -> 0.0055024042 | I11: {=SUM(IF(data!A2:A200="21-40 years",IF(data!B2:B200="30-70%",IF(data!C2:C200="Very Severe (>50%)",data!D2:D200,0),0),0))} -> 19006.196 | J11: =I11/($K$20+$M$20) -> 0.040587052 | K11: =SUM(C11,E11,G11,I11) -> 34277.572 | L11: =K11/($K$20+$M$20) -> 0.073198528 | M11: {=SUM(IF(data!A2:A200="21-40 years",IF(data!B2:B200="30-70%",IF(data!C2:C200="No Attack",data!D2:D200,0),0),0))} -> 11441.581 | N11: =M11/($K$20+$M$20) -> 0.024433087
B12: >70% | C12: {=SUM(IF(data!A2:A200="21-40 years",IF(data!B2:B200=">70%",IF(data!C2:C200="Light (<11%)",data!D2:D200,0),0),0))} -> 7581.4643 | D12: =C12/($K$20+$M$20) -> 0.016189946 | E12: {=SUM(IF(data!A2:A200="21-40 years",IF(data!B2:B200=">70%",IF(data!C2:C200="Moderate (11-30%)",data!D2:D200,0),0),0))} -> 4685.4419 | F12: =E12/($K$20+$M$20) -> 0.010005594 | G12: {=SUM(IF(data!A2:A200="21-40 years",IF(data!B2:B200=">70%",IF(data!C2:C200="Severe (31-50%)",data!D2:D200,0),0),0))} -> 3443.4032 | H12: =G12/($K$20+$M$20) -> 0.0073532645 | I12: {=SUM(IF(data!A2:A200="21-40 years",IF(data!B2:B200=">70%",IF(data!C2:C200="Very Severe (>50%)",data!D2:D200,0),0),0))} -> 19852.061 | J12: =I12/($K$20+$M$20) -> 0.042393365 | K12: =SUM(C12,E12,G12,I12) -> 35562.37 | L12: =K12/($K$20+$M$20) -> 0.075942169 | M12: {=SUM(IF(data!A2:A200="21-40 years",IF(data!B2:B200=">70%",IF(data!C2:C200="No Attack",data!D2:D200,0),0),0))} -> 9295.4383 | N12: =M12/($K$20+$M$20) -> 0.019850076
A14: 41-60 years | B14: 30-70% | C14: {=SUM(IF(data!A2:A200="41-60 years",IF(data!B2:B200="30-70%",IF(data!C2:C200="Light (<11%)",data!D2:D200,0),0),0))} -> 1330.0461 | D14: =C14/($K$20+$M$20) -> 0.0028402658 | E14: {=SUM(IF(data!A2:A200="41-60 years",IF(data!B2:B200="30-70%",IF(data!C2:C200="Moderate (11-30%)",data!D2:D200,0),0),0))} -> 1208.0843 | F14: =E14/($K$20+$M$20) -> 0.0025798208 | G14: {=SUM(IF(data!A2:A200="41-60 years",IF(data!B2:B200="30-70%",IF(data!C2:C200="Severe (31-50%)",data!D2:D200,0),0),0))} -> 753.36111 | H14: =G14/($K$20+$M$20) -> 0.0016087757 | I14: {=SUM(IF(data!A2:A200="41-60 years",IF(data!B2:B200="30-70%",IF(data!C2:C200="Very Severe (>50%)",data!D2:D200,0),0),0))} -> 8564.3936 | J14: =I14/($K$20+$M$20) -> 0.018288956 | K14: =SUM(C14,E14,G14,I14) -> 11855.885 | L14: =K14/($K$20+$M$20) -> 0.025317818 | M14: {=SUM(IF(data!A2:A200="41-60 years",IF(data!B2:B200="30-70%",IF(data!C2:C200="No Attack",data!D2:D200,0),0),0))} -> 2524.7424 | N14: =M14/($K$20+$M$20) -> 0.0053914972
B15: >70% | C15: {=SUM(IF(data!A2:A200="41-60 years",IF(data!B2:B200=">70%",IF(data!C2:C200="Light (<11%)",data!D2:D200,0),0),0))} -> 309.91997 | D15: =C15/($K$20+$M$20) -> 0.00066182302 | E15: {=SUM(IF(data!A2:A200="41-60 years",IF(data!B2:B200=">70%",IF(data!C2:C200="Moderate (11-30%)",data!D2:D200,0),0),0))} -> 306.09947 | F15: =E15/($K$20+$M$20) -> 0.00065366447 | G15: {=SUM(IF(data!A2:A200="41-60 years",IF(data!B2:B200=">70%",IF(data!C2:C200="Severe (31-50%)",data!D2:D200,0),0),0))} -> 474.28001 | H15: =G15/($K$20+$M$20) -> 0.001012808 | I15: {=SUM(IF(data!A2:A200="41-60 years",IF(data!B2:B200=">70%",IF(data!C2:C200="Very Severe (>50%)",data!D2:D200,0),0),0))} -> 10842.173 | J15: =I15/($K$20+$M$20) -> 0.023153072 | K15: =SUM(C15,E15,G15,I15) -> 11932.472 | L15: =K15/($K$20+$M$20) -> 0.025481367 | M15: {=SUM(IF(data!A2:A200="41-60 years",IF(data!B2:B200=">70%",IF(data!C2:C200="No Attack",data!D2:D200,0),0),0))} -> 830.55625 | N15: =M15/($K$20+$M$20) -> 0.0017736232
A17: >60 years | B17: 30-70% | C17: {=SUM(IF(data!A2:A200=">60 years",IF(data!B2:B200="30-70%",IF(data!C2:C200="Light (<11%)",data!D2:D200,0),0),0))} -> 2667.4707 | D17: =C17/($K$20+$M$20) -> 0.0056962883 | E17: {=SUM(IF(data!A2:A200=">60 years",IF(data!B2:B200="30-70%",IF(data!C2:C200="Moderate (11-30%)",data!D2:D200,0),0),0))} -> 3384.4886 | F17: =E17/($K$20+$M$20) -> 0.0072274544 | G17: {=SUM(IF(data!A2:A200=">60 years",IF(data!B2:B200="30-70%",IF(data!C2:C200="Severe (31-50%)",data!D2:D200,0),0),0))} -> 4926.3057 | H17: =G17/($K$20+$M$20) -> 0.01051995 | I17: {=SUM(IF(data!A2:A200=">60 years",IF(data!B2:B200="30-70%",IF(data!C2:C200="Very Severe (>50%)",data!D2:D200,0),0),0))} -> 136048.05 | J17: =I17/($K$20+$M$20) -> 0.29052574 | K17: =SUM(C17,E17,G17,I17) -> 147026.31 | L17: =K17/($K$20+$M$20) -> 0.31396943 | M17: {=SUM(IF(data!A2:A200=">60 years",IF(data!B2:B200="30-70%",IF(data!C2:C200="No Attack",data!D2:D200,0),0),0))} -> 11365.51 | N17: =M17/($K$20+$M$20) -> 0.02427064
B18: >70% | C18: {=SUM(IF(data!A2:A200=">60 years",IF(data!B2:B200=">70%",IF(data!C2:C200="Light (<11%)",data!D2:D200,0),0),0))} -> 1767.458 | D18: =C18/($K$20+$M$20) -> 0.0037743433 | E18: {=SUM(IF(data!A2:A200=">60 years",IF(data!B2:B200=">70%",IF(data!C2:C200="Moderate (11-30%)",data!D2:D200,0),0),0))} -> 4247.7306 | F18: =E18/($K$20+$M$20) -> 0.0090708768 | G18: {=SUM(IF(data!A2:A200=">60 years",IF(data!B2:B200=">70%",IF(data!C2:C200="Severe (31-50%)",data!D2:D200,0),0),0))} -> 5665.0933 | H18: =G18/($K$20+$M$20) -> 0.012097604 | I18: {=SUM(IF(data!A2:A200=">60 years",IF(data!B2:B200=">70%",IF(data!C2:C200="Very Severe (>50%)",data!D2:D200,0),0),0))} -> 176900.11 | J18: =I18/($K$20+$M$20) -> 0.37776386 | K18: =SUM(C18,E18,G18,I18) -> 188580.39 | L18: =K18/($K$20+$M$20) -> 0.40270669 | M18: {=SUM(IF(data!A2:A200=">60 years",IF(data!B2:B200=">70%",IF(data!C2:C200="No Attack",data!D2:D200,0),0),0))} -> 3589.4187 | N18: =M18/($K$20+$M$20) -> 0.0076650754
A20: Total | C20: =SUM(C11:C18) -> 20816.747 | D20: =C20/($K$20+$M$20) -> 0.044453418 | E20: =SUM(E11:E18) -> 19366.154 | F20: =E20/($K$20+$M$20) -> 0.04135573 | G20: =SUM(G11:G18) -> 17839.122 | H20: =G20/($K$20+$M$20) -> 0.038094806 | I20: =SUM(I11:I18) -> 371212.98 | J20: =I20/($K$20+$M$20) -> 0.79271205 | K20: =SUM(K11:K18) -> 429235 | L20: =SUM(L11:L18) -> 0.916616 | M20: =SUM(M11:M18) -> 39047.247 | N20: =SUM(N11:N18) -> 0.083383999

Sheet data
A1: Age Class | B1: Pine Density | C1: MPB Attack Severity | D1: Sum Of area_ha
A2: <21 years | B2: >70% | C2: Light (<11%) | D2: 328.61227
A3: <21 years | B3: >70% | C3: Light (<11%) | D3: 8370.0345
A4: <21 years | B4: >70% | C4: Light (<11%) | D4: 18.6007
A5: <21 years | B5: >70% | C5: Moderate (11-30%) | D5: 304.8093
A6: <21 years | B6: >70% | C6: Moderate (11-30%) | D6: 5183.563
A7: <21 years | B7: >70% | C7: Moderate (11-30%) | D7: 13.867393
A8: <21 years | B8: >70% | C8: No Attack | D8: 5183.763
A9: <21 years | B9: >70% | C9: No Attack | D9: 193.28503
A10: <21 years | B10: >70% | C10: No Attack | D10: 3384.0732
A11: <21 years | B11: >70% | C11: No Attack | D11: 41.187635
A12: <21 years | B12: >70% | C12: Severe (31-50%) | D12: 260.04719
A13: <21 years | B13: >70% | C13: Severe (31-50%) | D13: 1161.1422
... A119: 41-60 years | B119: 30-70% | C119: Very Severe (>50%) | D119: 27.11088

Sheet Sheet3
